BEGIN:VCALENDAR
VERSION:2.0
PRODID:-//wp-events-plugin.com//7.2.3.1//EN
TZID:America/New_York
X-WR-TIMEZONE:America/New_York
BEGIN:VEVENT
UID:1@wncfurs.com
DTSTART;TZID=America/New_York:20200725T210000
DTEND;TZID=America/New_York:20200725T230000
DTSTAMP:20200713T221951Z
URL:https://www.wncfurs.com/events/digital-slumber-party-with-permabanned/
SUMMARY:Digital slumber party with Permabanned!
DESCRIPTION:Get your snaccos and drinks ready before paw and ready to rock.
 \n\nThis private gathering to hang out and not watch a movie for a duratio
 n of ?? mins but have a text channel available for comments as the main ev
 ent goes on and to chitter in.\n\nTheme for this slumber party is ???. Spa
 ce is limited to 100 people for the event so it is first come first serve.
 \n\nMake sure to join ahead of time. Will be starting a pre-stream cartoon
 s to help people settle and trouble shoot at 8pm EST.\n\nDirect link to ro
 om: (Available in the Telegram pinned note. Or DM an admin on discord/Tele
 gram)\n\nWe are not using discord. This time we will be using a streaming 
 service called KAST. It is free and I will be able to add you in after you
  click the link send me a DM if you sign up with something other then your
  Telegram name. We decided to go with something more phone friendly to hel
 p let furs who don't have a computer or are away from their house at work 
 hang with us too.\n\nSeveral ways to join in. You can use the web app and 
 use Chrome or Edge\, the desktop app (I use this one) or use the Android o
 r iOS app instead.\n\nhttps://www.kastapp.co/
END:VEVENT
BEGIN:VEVENT
UID:2@wncfurs.com
DTSTART;TZID=America/New_York:20200809T130000
DTEND;TZID=America/New_York:20200809T180000
DTSTAMP:20200807T141342Z
URL:https://www.wncfurs.com/events/rhys-chill-meet/
SUMMARY:Rhys' chill meet
DESCRIPTION:Rhys reporting! I'm here to bring you a tiny source of social i
 nteraction and community during these times in COVID-19. This will be over
  a Discord voice call\, please make sure you're in the group and accepted 
 before this meet.\n\nThis is a public gathering to those within the before
 mentioned Discord server\, all are open to join! Please make sure that you
 're remaining PG-13 and abiding by the rules. Using the Discord live-strea
 m\, everyone is free to separate into smaller groups to discuss smaller to
 pics (e.g. gaming\, art\, misc topics)\, and stream into the channels (wit
 h permission from the mods on the topic). I will for sure be streaming int
 o the main channel and doing free doodles for those who join\, as a small 
 thank you! This meet is supposed to be light-hearted and fun\, and I hope 
 you all enjoy it!\n\nhttps://discord.gg/Q3BaNBV
END:VEVENT
BEGIN:VEVENT
UID:7@wncfurs.com
DTSTART;TZID=America/New_York:20201028T000000
DTEND;TZID=America/New_York:20201028T000000
DTSTAMP:20201021T193200Z
URL:https://www.wncfurs.com/events/randoms-pumpkin-carving-contest/
SUMMARY:Random's Pumpkin Carving Contest
DESCRIPTION:Oct 28th | 7pm - 9pm | WNC Furs Pumpkin Carving Contest | Disco
 rd\n\nBoo! It’s your resident black cat celebrating in style! Carve up y
 our favorite gourd and send us a photo! Submissions close Oct 27th.\n\nhtt
 ps://forms.gle/7YmpQdeFDisDBpst8\n\nThe WNC Furs Admins will be your judge
 s and vote on each carving before the Pumpkin Patch happens on Oct 28th. T
 he Pumpkin Patch will be viewed over Discord and everyone can vote on thei
 r favorites. The judge’s favorite and the crowd’s favorite will both b
 e featured in an upcoming events art!\n\nLooking forward to seeing your cr
 eations and Happy Halloween!\n\n=^-^=
END:VEVENT
BEGIN:VEVENT
UID:12@wncfurs.com
DTSTART;TZID=America/New_York:20201028T000000
DTEND;TZID=America/New_York:20201028T000000
DTSTAMP:20201021T193414Z
URL:https://www.wncfurs.com/events/among-us/
SUMMARY:Among Us
DESCRIPTION:Nov 10th | 7pm - 8pm | Among Us w/ WNC Furs  | Among Us\n\n&nb
 sp\;\n\nReady to find the Imposter? Or are you the Imposter? Come and play
  this popular game with your other locals! \n\n&nbsp\;\n\nAmong Us is a g
 ame that can be downloaded for free on most smartphones or via Steam. The 
 room code will be dropped right before the meet starts so keep an eye on t
 he social media! Rooms are limited to a max of two people so a second room
  might need to be set up if the room cap is reached. Second room code will
  also be dropped for those to join into as well!\n\n&nbsp\;\n\nDiscord: ht
 tps://discord.com/invite/Q3BaNBV\n\nTelegram Channel: https://t.me/wncfurs
 \n\nFacebook: https://www.facebook.com/groups/WNCFurs/ \n\nTwitter: https
 ://twitter.com/WNCFurs
END:VEVENT
BEGIN:VEVENT
UID:9@wncfurs.com
DTSTART;TZID=America/New_York:20201127T000000
DTEND;TZID=America/New_York:20201127T000000
DTSTAMP:20201021T193431Z
URL:https://www.wncfurs.com/events/mochis-virtual-leftover-thanksgiving/
SUMMARY:Mochi's Virtual Leftover Thanksgiving
DESCRIPTION:Nov 10th | 6pm - 8pm | Mochi’s Leftover Thanksgiving | Discor
 d\n\n&nbsp\;\n\nWant to have a Thanksgiving Dinner with your furry family?
  Come eat your leftovers with everyone else after you’ve shopped til you
  dropped! \n\n&nbsp\;\n\nWe will be chatting over Discord while we share 
 our leftovers and catch up. Looking forward to seeing everyone and the dif
 ferent types of foods everyone eats over the holiday weekend. Be prepared 
 to be asked the classic “What are you thankful for?” but don’t worry
 \, we won’t make you sit at the kids table!
END:VEVENT
BEGIN:VEVENT
UID:10@wncfurs.com
DTSTART;TZID=America/New_York:20201209T000000
DTEND;TZID=America/New_York:20201209T000000
DTSTAMP:20201021T192854Z
URL:https://www.wncfurs.com/events/lunas-story-time/
SUMMARY:Luna's Story time
DESCRIPTION:Info TBA
END:VEVENT
BEGIN:VEVENT
UID:11@wncfurs.com
DTSTART;TZID=America/New_York:20201226T000000
DTEND;TZID=America/New_York:20201226T000000
DTSTAMP:20201021T192916Z
URL:https://www.wncfurs.com/events/coloring-chilling-and-ciddering/
SUMMARY:Coloring\, Chilling\, and Ciddering
DESCRIPTION:Info TBA
END:VEVENT
BEGIN:VTIMEZONE
TZID:America/New_York
X-LIC-LOCATION:America/New_York
BEGIN:DAYLIGHT
DTSTART:20200308T030000
TZOFFSETFROM:-0500
TZOFFSETTO:-0400
TZNAME:EDT
END:DAYLIGHT
BEGIN:STANDARD
DTSTART:20201101T010000
TZOFFSETFROM:-0400
TZOFFSETTO:-0500
TZNAME:EST
END:STANDARD
END:VTIMEZONE
END:VCALENDAR